BEGIN:VCALENDAR
VERSION:2.0
PRODID:-//Ralf Bodeutsch - Fasten - ECPv6.15.12.2//NONSGML v1.0//EN
CALSCALE:GREGORIAN
METHOD:PUBLISH
X-ORIGINAL-URL:https://bodeutsch.eu
X-WR-CALDESC:Veranstaltungen für Ralf Bodeutsch - Fasten
REFRESH-INTERVAL;VALUE=DURATION:PT1H
X-Robots-Tag:noindex
X-PUBLISHED-TTL:PT1H
BEGIN:VTIMEZONE
TZID:Europe/Berlin
BEGIN:DAYLIGHT
TZOFFSETFROM:+0100
TZOFFSETTO:+0200
TZNAME:CEST
DTSTART:20180325T010000
END:DAYLIGHT
BEGIN:STANDARD
TZOFFSETFROM:+0200
TZOFFSETTO:+0100
TZNAME:CET
DTSTART:20181028T010000
END:STANDARD
BEGIN:DAYLIGHT
TZOFFSETFROM:+0100
TZOFFSETTO:+0200
TZNAME:CEST
DTSTART:20190331T010000
END:DAYLIGHT
BEGIN:STANDARD
TZOFFSETFROM:+0200
TZOFFSETTO:+0100
TZNAME:CET
DTSTART:20191027T010000
END:STANDARD
BEGIN:DAYLIGHT
TZOFFSETFROM:+0100
TZOFFSETTO:+0200
TZNAME:CEST
DTSTART:20200329T010000
END:DAYLIGHT
BEGIN:STANDARD
TZOFFSETFROM:+0200
TZOFFSETTO:+0100
TZNAME:CET
DTSTART:20201025T010000
END:STANDARD
BEGIN:DAYLIGHT
TZOFFSETFROM:+0100
TZOFFSETTO:+0200
TZNAME:CEST
DTSTART:20210328T010000
END:DAYLIGHT
BEGIN:STANDARD
TZOFFSETFROM:+0200
TZOFFSETTO:+0100
TZNAME:CET
DTSTART:20211031T010000
END:STANDARD
BEGIN:DAYLIGHT
TZOFFSETFROM:+0100
TZOFFSETTO:+0200
TZNAME:CEST
DTSTART:20220327T010000
END:DAYLIGHT
BEGIN:STANDARD
TZOFFSETFROM:+0200
TZOFFSETTO:+0100
TZNAME:CET
DTSTART:20221030T010000
END:STANDARD
BEGIN:DAYLIGHT
TZOFFSETFROM:+0100
TZOFFSETTO:+0200
TZNAME:CEST
DTSTART:20230326T010000
END:DAYLIGHT
BEGIN:STANDARD
TZOFFSETFROM:+0200
TZOFFSETTO:+0100
TZNAME:CET
DTSTART:20231029T010000
END:STANDARD
BEGIN:DAYLIGHT
TZOFFSETFROM:+0100
TZOFFSETTO:+0200
TZNAME:CEST
DTSTART:20240331T010000
END:DAYLIGHT
BEGIN:STANDARD
TZOFFSETFROM:+0200
TZOFFSETTO:+0100
TZNAME:CET
DTSTART:20241027T010000
END:STANDARD
BEGIN:DAYLIGHT
TZOFFSETFROM:+0100
TZOFFSETTO:+0200
TZNAME:CEST
DTSTART:20250330T010000
END:DAYLIGHT
BEGIN:STANDARD
TZOFFSETFROM:+0200
TZOFFSETTO:+0100
TZNAME:CET
DTSTART:20251026T010000
END:STANDARD
BEGIN:DAYLIGHT
TZOFFSETFROM:+0100
TZOFFSETTO:+0200
TZNAME:CEST
DTSTART:20260329T010000
END:DAYLIGHT
BEGIN:STANDARD
TZOFFSETFROM:+0200
TZOFFSETTO:+0100
TZNAME:CET
DTSTART:20261025T010000
END:STANDARD
END:VTIMEZONE
BEGIN:VEVENT
DTSTART;VALUE=DATE:20251012
DTEND;VALUE=DATE:20251020
DTSTAMP:20260421T144905
CREATED:20230803T081134Z
LAST-MODIFIED:20250218T132714Z
UID:274-1760227200-1760918399@bodeutsch.eu
SUMMARY:Fasten und Stille
DESCRIPTION:Der Benediktushof ist ein Zentrum für spirituelle Wege und versteht sich als überkonfessionelles Bildungshaus. \nEs besteht im Benediktushof die Möglichkeit zur Teilnahme an den täglichen Meditationszeiten (Sitzen in Stille). \nZur Teilnahme an den Kursen im Benediktushof gehört pro Tag eine Stunde Mitarbeit in Küche\, Hauswirtschaft\, Werkstatt oder Garten. Sie ist ein fester Bestandteil der Übung der Achtsamkeit und Bewusstheit. \nFasten ist ein Anpassungsprozess\, der so alt ist wie das Leben selbst.\nHeute erleben sich viele Menschen in einer hektischen Alltagswelt mit starken Mobilitätsanforderungen und hohen Leistungsansprüchen.\nFasten und Stille ist ein starker Gegenpool. \nEs geht darum die eigene Seele zu erspüren und\, wie es der Fastenarzt Otto Buchinger beschreibt: „… die im Fasten erkennbare weitere Sprosse der Jakobsleiter zu erklimmen.“ \nEr orientierte sich am christlichen 40 tätigen Fasten und beschreibt:\n„Die Fastenzeit aber soll eine Ewigkeitsminute der Stille in unserem gehetzten Leben sein.“
URL:https://bodeutsch.eu/event/fasten-und-stille-3/
LOCATION:Benediktushof\, Klosterstraße 10\, Holzkirchen\, 97292
CATEGORIES:Termine
ATTACH;FMTTYPE=image/jpeg:https://bodeutsch.eu/wp-content/uploads/2016/01/IMG_0449.jpg
END:VEVENT
BEGIN:VEVENT
DTSTART;VALUE=DATE:20250928
DTEND;VALUE=DATE:20251006
DTSTAMP:20260421T144905
CREATED:20160124T121921Z
LAST-MODIFIED:20250218T133551Z
UID:52-1759017600-1759708799@bodeutsch.eu
SUMMARY:Fasten und Wandern auf der Ostseeinsel Usedom
DESCRIPTION:– Körperliche und seelische Ausgeglichenheit durch Fastenwandern\, Entspannen und Besinnen –\nDer Körper entgiftet\, der Kopf wird frei\, die Augen strahlen\, das Hautbild zeigt die tolle Fastenwirkung. Das Fasten für Gesunde nach Buchinger/Lützner lebt vom Wechsel zwischen Bewegung und Entspannung.\nDie Ostseeinsel Usedom lockt zu jeder Jahreszeit mit ihrer ursprünglichen Natur. Besonders in der ruhigen Nebensaison kommt der Mensch bei Strandwanderungen in Einklang mit sich selbst und dem Meer. \nDas Ferien- und Wellnesshotel Seerose liegt inmitten herrlicher Natur auf der Ostseeinsel Usedom. Es bietet einen direkten Strandzugang und verfügt über eine eigene Badelandschaft. Sauna und Wellnessangebote runden das Verwöhnprogramm für Körper und Seele ab. \n  \n 
URL:https://bodeutsch.eu/event/fasten-und-wandern-auf-der-ostseeinsel-usedom/
LOCATION:Strandhotel Seerose Insel Usedom\, Strandstraße 1\, Loddin\, 17459\, Deutschland
CATEGORIES:Termine
ATTACH;FMTTYPE=image/jpeg:https://bodeutsch.eu/wp-content/uploads/2016/01/slider1-2.jpg
END:VEVENT
BEGIN:VEVENT
DTSTART;VALUE=DATE:20250422
DTEND;VALUE=DATE:20250430
DTSTAMP:20260421T144905
CREATED:20230803T085324Z
LAST-MODIFIED:20250218T133015Z
UID:282-1745280000-1745971199@bodeutsch.eu
SUMMARY:Fasten und Wandern auf der Ostseeinsel Usedom
DESCRIPTION:– Körperliche und seelische Ausgeglichenheit durch Fastenwandern\, Entspannen und Besinnen –\nDer Körper entgiftet\, der Kopf wird frei\, die Augen strahlen\, das Hautbild zeigt die tolle Fastenwirkung. Das Fasten für Gesunde nach Buchinger/Lützner lebt vom Wechsel zwischen Bewegung und Entspannung.\nDie Ostseeinsel Usedom lockt zu jeder Jahreszeit mit ihrer ursprünglichen Natur. Besonders in der ruhigen Nebensaison kommt der Mensch bei Strandwanderungen in Einklang mit sich selbst und dem Meer. \nDas Ferien- und Wellnesshotel Seerose liegt inmitten herrlicher Natur auf der Ostseeinsel Usedom. Es bietet einen direkten Strandzugang und verfügt über eine eigene Badelandschaft. Sauna und Wellnessangebote runden das Verwöhnprogramm für Körper und Seele ab. \nKosten Seminar\nab 986\,-\nBuchen\nBuchung über Katja Rolsch / Hotel Seerose \nstrandhotel-seerose.de / +49 (0)38375 540
URL:https://bodeutsch.eu/event/fasten-und-wandern-auf-der-insel-usedom/
LOCATION:Strandhotel Seerose Insel Usedom\, Strandstraße 1\, Loddin\, 17459\, Deutschland
CATEGORIES:Termine
ATTACH;FMTTYPE=image/jpeg:https://bodeutsch.eu/wp-content/uploads/2016/01/slider1-2.jpg
END:VEVENT
BEGIN:VEVENT
DTSTART;VALUE=DATE:20250413
DTEND;VALUE=DATE:20250421
DTSTAMP:20260421T144905
CREATED:20160123T170611Z
LAST-MODIFIED:20250218T132842Z
UID:28-1744502400-1745193599@bodeutsch.eu
SUMMARY:Fasten und Stille
DESCRIPTION:Der Benediktushof ist ein Zentrum für spirituelle Wege und versteht sich als überkonfessionelles Bildungshaus. \nEs besteht im Benediktushof die Möglichkeit zur Teilnahme an den täglichen Meditationszeiten (Sitzen in Stille). \nZur Teilnahme an den Kursen im Benediktushof gehört pro Tag eine Stunde Mitarbeit in Küche\, Hauswirtschaft\, Werkstatt oder Garten. Sie ist ein fester Bestandteil der Übung der Achtsamkeit und Bewusstheit. \nFasten ist ein Anpassungsprozess\, der so alt ist wie das Leben selbst.\nHeute erleben sich viele Menschen in einer hektischen Alltagswelt mit starken Mobilitätsanforderungen und hohen Leistungsansprüchen.\nFasten und Stille ist ein starker Gegenpool. \nEs geht darum die eigene Seele zu erspüren und\, wie es der Fastenarzt Otto Buchinger beschreibt: „… die im Fasten erkennbare weitere Sprosse der Jakobsleiter zu erklimmen.“ \nEr orientierte sich am christlichen 40 tätigen Fasten und beschreibt:\n„Die Fastenzeit aber soll eine Ewigkeitsminute der Stille in unserem gehetzten Leben sein.“ \n 
URL:https://bodeutsch.eu/event/fasten-und-stille/
LOCATION:Benediktushof\, Klosterstraße 10\, Holzkirchen\, 97292
CATEGORIES:Termine
ATTACH;FMTTYPE=image/jpeg:https://bodeutsch.eu/wp-content/uploads/2016/01/IMG_0449.jpg
END:VEVENT
BEGIN:VEVENT
DTSTART;VALUE=DATE:20240901
DTEND;VALUE=DATE:20240915
DTSTAMP:20260421T144905
CREATED:20230803T085636Z
LAST-MODIFIED:20230803T154104Z
UID:285-1725148800-1726358399@bodeutsch.eu
SUMMARY:Fastenpilgern auf dem Jacobsweg-von Stettin nach Berlin-
DESCRIPTION:Der Brandenburgische Jacobsweg wird zum Fastenpilgerweg von Stettin nach Berlin. Unser Wegabschnitt war ein Teil der Via Imperii\, einer der bekanntesten alten Fernhandelsstrassen in Nord-Süd Richtung von Stettin bis nach Rom. Auf der Via Imperii waren im Mittelalter die Pilger auf ihrem Weg nach Rom\, nach Jerusalem und auch nach Santiago unterwegs. \nWir starten an der Jakobikathedrale in Stettin/Szczecin\, dem zweithöchsten Gotteshaus in Polen. \nUnser Weg führt uns über die Uckermark\, den einzigartigen Flussauen-Nationalpark Unteres Odertal. Weitere Highlights sind das Biosphärenreservat Schorfheide-Chorin mit dem 750 Jahre alten ehemaligen Zisterziensekloster Choren und fas idyllische Nonnenfließ im Schwärzetal. Nach insgesamt 208 km erreichen wir auf unserer letzten Etappe das Brandenburger Tor in Berlin. \nBeim Fasten und Pilgern lernen wir wunderbare Landschaften kennen\, erkunden historische Denkmäler\, erleben Gemeinschaft und Einsamkeit und gehen letztendlich mit jeden Schritt auf uns selbst zu.
URL:https://bodeutsch.eu/event/fastenpilgerweg-2024-von-stettin-nach-berlintest-hallo/
LOCATION:Berlin
CATEGORIES:Termine
ATTACH;FMTTYPE=image/jpeg:https://bodeutsch.eu/wp-content/uploads/2023/08/IMG_4965-scaled.jpeg
END:VEVENT
BEGIN:VEVENT
DTSTART;VALUE=DATE:20231111
DTEND;VALUE=DATE:20231120
DTSTAMP:20260421T144905
CREATED:20191228T170709Z
LAST-MODIFIED:20230803T151220Z
UID:211-1699660800-1700438399@bodeutsch.eu
SUMMARY:Von Marakesch nach Córdoba - Mythos Al Andalus-wo sich die Religionen berühren-
DESCRIPTION:Eine Erlebnis- und Gesundheitsreise mit Ralf Bodeutsch \nauf den Spuren des Mythos Al Andalus \nvom 11.11. bis 19.11.2023 \nLiebe Reisefreunde\, \nich freue mich sehr\, im Spätherbst 2023 wieder mit meinem bewährten Reisepartner „DIE WINDROSE“\, eine weitere geistliche Pilgertour anbieten zu können. \nDer Mythos Al Andalus beschäftigt die Menschen seit Jahrhunderten bis in unsere Zeit.  \nWir folgen den Spuren der Araber von Nordafrika nach Andalusien\, bis nach Córdoba. \nUnd wir wollen wieder auf geistliche Spurensuche gehen; wie gestaltete sich das Zusammenleben aus Christen\, Muslimen und Juden in Nordafrika; Wie lebten die Mozaraber\, die Christen\, die sich in der äußeren Lebensform den Strukturen der arabischen Gesellschaft anpassten und dabei ihren christlichen Glauben mit seinen Ritualen bewahrten? \nWir erhalten in Marakesch und Casablanca tiefe Eindrücke in die arabische Kultur auf dem afrikanischen Kontinent  und reisen dann bis nach Córdoba\, das auf eine zweitausendjährige Geschichte zurückblickt und als einzige Stadt weltweit über vier Weltkulturerbe-Stätten verfügt.   \n Es ist ein schönes Land\, das schöne Spanien. Viel neue Weisheit sprosste aus der alten.                                                                        Und Scharen wissbegier’ger Schüler wallten. Aus allen Ländern her nach Cordoba\,                                                                              Um hier zu lernen\, wie man Sterne misst\, Und wie man löst die Rätsel dieses Lebens. \n(Heinrich Heine in ´Álmasor 1823) \nDa meine Reisen immer unter dem Motto ´Gesundheits- und Erlebnisreisen´ stehen\, also auch Essen und Bewegung Berücksichtigung finden\, werden wir sowohl seelisch erfüllt\, als auch körperlich regeneriert und gestärkt nach Hause kommen.  \nLiebe Freunde\, mein Partner „DIE WINDROSE“ hat das Detail-Programm mit seiner langjährigen   Erfahrung und hervorragenden persönlichen Kontakten vor Ort wieder touristisch gewürzt. \nBei speziellen Fragen zu Anreise wendet euch bitte gerne jederzeit an „DIE WINDROSE“ oder an mich. \nIch freue mich auf ein Wiedersehen bei dieser aussergewöhnlichen Reise. \nEuer  Ralf
URL:https://bodeutsch.eu/event/von-marakesch-nach-cordoba-mythos-al-andalus-wo-sich-die-religionen-beruehren/
LOCATION:Andalusien
CATEGORIES:Termine
ATTACH;FMTTYPE=image/jpeg:https://bodeutsch.eu/wp-content/uploads/2023/08/IMG_7424-scaled.jpeg
ORGANIZER;CN="Windrose":MAILTO:info@diewindrose.com
END:VEVENT
BEGIN:VEVENT
DTSTART;VALUE=DATE:20231015
DTEND;VALUE=DATE:20231023
DTSTAMP:20260421T144905
CREATED:20160123T170646Z
LAST-MODIFIED:20230803T140345Z
UID:29-1697328000-1698019199@bodeutsch.eu
SUMMARY:Fasten und Stille
DESCRIPTION:Der Benediktushof ist ein Zentrum für spirituelle Wege und versteht sich als überkonfessionelles Bildungshaus. \nEs besteht im Benediktushof die Möglichkeit zur Teilnahme an den täglichen Meditationszeiten (Sitzen in Stille). \nZur Teilnahme an den Kursen im Benediktushof gehört pro Tag eine Stunde Mitarbeit in Küche\, Hauswirtschaft\, Werkstatt oder Garten. Sie ist ein fester Bestandteil der Übung der Achtsamkeit und Bewusstheit. \nFasten ist ein Anpassungsprozess\, der so alt ist wie das Leben selbst.\nHeute erleben sich viele Menschen in einer hektischen Alltagswelt mit starken Mobilitätsanforderungen und hohen Leistungsansprüchen.\nFasten und Stille ist ein starker Gegenpool. \nEs geht darum die eigene Seele zu erspüren und\, wie es der Fastenarzt Otto Buchinger beschreibt: „… die im Fasten erkennbare weitere Sprosse der Jakobsleiter zu erklimmen.“ \nEr orientierte sich am christlichen 40 tätigen Fasten und beschreibt:\n„Die Fastenzeit aber soll eine Ewigkeitsminute der Stille in unserem gehetzten Leben sein.“ \n 
URL:https://bodeutsch.eu/event/fasten-und-stille-2/
LOCATION:Benediktushof\, Klosterstraße 10\, Holzkirchen\, 97292
CATEGORIES:Termine
ATTACH;FMTTYPE=image/jpeg:https://bodeutsch.eu/wp-content/uploads/2016/01/IMG_0449.jpg
END:VEVENT
BEGIN:VEVENT
DTSTART;VALUE=DATE:20200524
DTEND;VALUE=DATE:20200528
DTSTAMP:20260421T144905
CREATED:20180102T233858Z
LAST-MODIFIED:20191228T174950Z
UID:138-1590278400-1590623999@bodeutsch.eu
SUMMARY:Spiritualität und Fasten
DESCRIPTION:Spiritualität und Fasten  \nein „Spiritueller Methodenkoffer“  in zwei Modulen (Modul 1) \nDie spirituelle Dimension der Fastenerfahrung ist für viele Menschen eine wichtige Motivation für das Fasten. \nDas Seminar vermittelt theoretische Grundlagen und Übungen\, welche in die eigene Tiefe führen\, die Wahrnehmung sensibilisieren und Raum für geistliche Erfahrungen schaffen. \nVon Askese bis Zen werden Meditationspraktiken beleuchtet und eingeübt. So entsteht für den Fastenkursleiter und alle Interessierten ein „Spiritueller Methodenkoffer“. \nDie Theorie: \nFasten in den großen Weltreligionen und als spirituelle Praxis in der Klostergeschichte.    Meditation und Adoration bei Otto Buchinger. \nSpiritualität in der Medizin und Psychologie. \nDie Praxis: \nStilleübungen\, Achtsames Essen\, Sitzen\, Gehen und Schreiben. \nDidaktik und Schwerpunkte beim Anleiten meditativer Übungen. \nDas Arbeiten in einer kleinen Gruppe gibt wertvollen Raum für Selbsterfahrung und Selbstreflexion. \nDas Seminar richtet sich an Kursleiter/-innen im Bereich Fasten und alle interessierten Menschen. Es wird vom Deutsche Fastenakademie e.V. als Fortbildung zertifiziert. \nSeminarlietung: \n\nRalf Bodeutsch\, Dipl.Ing.\, Fastenleiter dfa\n\nGastreferenten: \n\nPrämonstratenser-Chorherren der Stifte Geras/Pernegg\n\nModul I :  24. bis 27.05.2020  Grundlagen und Praxis           350\,- € \nModul II:  18. bis 21.10.2020  Praxis und Supervision           350\,- € \nTeilnehmerzahl: max. 6 \nStift Geras:  Übernachtung im EZ\, veget. Vollpension\, Tagungsgetränke 84\,00 €/Tag \n(Die Seminare beginnen jeweils 17.00 Uhr und enden am letzten Seminartag 13.00 Uhr nach dem Mittagessen) \nDer Seminarort\, das Kloster Geras\, ist geprägt durch die Präsenz der Prämonstratenser-Chorherren\, die seit dem Jahr 1153 ohne Unterbrechung hier leben und wirken. \nLieber Seminarinteressent\, so rufen wir dir frei nach Otto Buchinger zu:  \nWas du auch bist\, lieber Menschenbruder\, deinem Bekenntnis nach\,  \nMoslem\, Brahmane\, Jude oder wie der Verfasser dieser Zeilen Christ oder sonst ein Gott- und Heimatsucher – du bist willkommen!*  \n*modifiziert von R. Bodeutsch nach Buchinger O: Älter werden ohne zu altern. Bruno Wilkens\, Hannover\, S.84
URL:https://bodeutsch.eu/event/spiritualitaet-und-fasten-2/
CATEGORIES:Termine
ATTACH;FMTTYPE=image/jpeg:https://bodeutsch.eu/wp-content/uploads/2018/01/18699552_1450320408345102_9037539340607561889_o.jpg
END:VEVENT
BEGIN:VEVENT
DTSTART;VALUE=DATE:20191112
DTEND;VALUE=DATE:20191125
DTSTAMP:20260421T144905
CREATED:20181123T232701Z
LAST-MODIFIED:20190325T230036Z
UID:185-1573516800-1574639999@bodeutsch.eu
SUMMARY:Mexiko - Tropisches Früchtefasten auf den Spuren der Maya und Azteken -
DESCRIPTION:  \n\n\n\n\nDasBesondeream ́Tropischen Früchtefasten ́ \nDie Basis des Tropischen Früchte Fastens ist das Kokswasser.\nDer hohe Selenwert macht die Kokosnuss zu einer hoch-antioxidativen Frucht\, das heißt\, sie bremst den Alterungsprozess der Zelle\, verbessert das körperliche und seelische Wohlbefinden und verjüngt. Kokoswasser enthält große Mengen Kalium\, Magnesium und Vitamin-C und ist damit wertvoller als jedes iostonische Sportgetränk.\nErleben Sie Kokoswasser in seiner frischesten Form mit Hochgenuss täglich direkt aus der Frucht.\nAlle tropischen Früchte\, wie Mango\, Ananas\, Papaya\, Pitahaya\, Guave\, Maracuja\, Tamarillo\, Granadillo\, Sapote und viele mehr sind reich an natürlichen Stoffen\, wie Mineralien in ihren lebendigen Verbindungen\, Vitaminen\, Aromen und Ballaststoffen. Mit ihrem geringen Kalorien- und sehr hohem Wassergehalt eignen sich die tropischen Köstlichkeiten hervorragend zur Gewichtsregulation sowie zur Entgiftung und Regeneration. \n\n\n\n\nIhr Gewinndurch ́tropisches früchtefasten ́ \n– Stärkung des körperlichen Wohlbefindens und Förderung der geistigen Klarheit- StärkungdesImmunsystems\n– ZunahmevoninnererAusgeglichenheitundZufriedenheit\n– SteigerungvonKraftundAusdauer \n– GewinnanEnergie\,VitalitätundSchönheit \nReiseveranstalter: DIE WINDROSE\nReisekontor H. Loizenbauer\, 4101Bad Mühllacken/Feldkirchen Tel: 07233/7267 Mail: info@diewindrose.com \n\n\n\n\n\n\n\n\n 
URL:https://bodeutsch.eu/event/mexiko-tropisches-fruechtefasten-auf-den-spuren-der-maya-und-azteken/
CATEGORIES:Termine
ATTACH;FMTTYPE=image/jpeg:https://bodeutsch.eu/wp-content/uploads/2018/11/Imagen-004.jpeg
END:VEVENT
BEGIN:VEVENT
DTSTART;VALUE=DATE:20191018
DTEND;VALUE=DATE:20191022
DTSTAMP:20260421T144905
CREATED:20180102T230605Z
LAST-MODIFIED:20201021T022103Z
UID:128-1571356800-1571702399@bodeutsch.eu
SUMMARY:Spiritualität und Fasten
DESCRIPTION:Spiritualität und Fasten  \nein „Spiritueller Methodenkoffer“  in zwei Modulen (Modul 2) \nDie spirituelle Dimension der Fastenerfahrung ist für viele Menschen eine wichtige Motivation für das Fasten. \nDas Seminar vermittelt theoretische Grundlagen und Übungen\, welche in die eigene Tiefe führen\, die Wahrnehmung sensibilisieren und Raum für geistliche Erfahrungen schaffen. \nVon Askese bis Zen werden Meditationspraktiken beleuchtet und eingeübt. So entsteht für den Fastenkursleiter und alle Interessierten ein „Spiritueller Methodenkoffer“. \nDie Theorie: \nFasten in den großen Weltreligionen und als spirituelle Praxis in der Klostergeschichte.    Meditation und Adoration bei Otto Buchinger. \nSpiritualität in der Medizin und Psychologie. \nDie Praxis: \nStilleübungen\, Achtsames Essen\, Sitzen\, Gehen und Schreiben. \nDidaktik und Schwerpunkte beim Anleiten meditativer Übungen. \nDas Arbeiten in einer kleinen Gruppe gibt wertvollen Raum für Selbsterfahrung und Selbstreflexion. \nDas Seminar richtet sich an Kursleiter/-innen im Bereich Fasten und alle interessierten Menschen. Es wird vom Deutsche Fastenakademie e.V. als Fortbildung zertifiziert. \nSeminarlietung: \n\nRalf Bodeutsch\, Dipl.Ing.\, Fastenleiter dfa\n\nGastreferenten: \n\nPrämonstratenser-Chorherren der Stifte Geras/Pernegg\n\nModul I :  24.05. bis 27.05.2020  Grundlagen und Praxis           350\,- € \nModul II:  18. bis 21.10.2020  Praxis und Supervision                 350\,- € \nTeilnehmerzahl: max. 6 \nStift Geras:  Übernachtung im EZ\, veget. Vollpension\, Tagungsgetränke 84\,00 €/Tag \n(Die Seminare beginnen jeweils 17.00 Uhr und enden am letzten Seminartag 13.00 Uhr nach dem Mittagessen) \nDer Seminarort\, das Kloster Geras\, ist geprägt durch die Präsenz der Prämonstratenser-Chorherren\, die seit dem Jahr 1153 ohne Unterbrechung hier leben und wirken. \nLieber Seminarinteressent\, so rufen wir dir frei nach Otto Buchinger zu:  \nWas du auch bist\, lieber Menschenbruder\, deinem Bekenntnis nach\,  \nMoslem\, Brahmane\, Jude oder wie der Verfasser dieser Zeilen Christ oder sonst ein Gott- und Heimatsucher – du bist willkommen!*  \n*modifiziert von R. Bodeutsch nach Buchinger O: Älter werden ohne zu altern. Bruno Wilkens\, Hannover\, S.84
URL:https://bodeutsch.eu/event/spiritualitaet-und-fasten/
LOCATION:Kloster Geras im Waldviertel
CATEGORIES:Termine
ATTACH;FMTTYPE=image/jpeg:https://bodeutsch.eu/wp-content/uploads/2018/01/18699552_1450320408345102_9037539340607561889_o.jpg
END:VEVENT
BEGIN:VEVENT
DTSTART;VALUE=DATE:20190630
DTEND;VALUE=DATE:20190708
DTSTAMP:20260421T144905
CREATED:20160123T185856Z
LAST-MODIFIED:20181124T061510Z
UID:43-1561852800-1562543999@bodeutsch.eu
SUMMARY:Fasten und Stille-Fit in den Sommer-
DESCRIPTION:  \nFasten ist ein Weg zur Gesundheit\, zu den Ordnungen der Natur und zu sich selbst.\nDie reinigende Wirkung des Fastens wird durch die Bewegung verstärkt. \nDurch das Fasten und die Wanderungen im mystischen Waldviertel erleben Sie\, wie effektiv ein vitaler Lebensstil sein kann. Diese ganzheitliche Gesundheitsvorsorge gibt Ihnen frische Kräfte und ein neues Gefühl von Wohlbefinden\,\nSie erhalten viele Tipps für den Sommer zu Hause und im Urlaub. \nOtto Buchinger orientierte sich am christlichen 40 tätigen Fasten und beschreibt:\n„Die Fastenzeit aber soll eine Ewigkeitsminute der Stille in unserem gehetzten Leben sein.“ \n730\,- € EZ \n830\,- € Komfort DZ zur Einzelnutzung
URL:https://bodeutsch.eu/event/fasten-und-wandern-fit-in-den-sommer/
CATEGORIES:Termine
ATTACH;FMTTYPE=image/jpeg:https://bodeutsch.eu/wp-content/uploads/2018/01/18699552_1450320408345102_9037539340607561889_o.jpg
END:VEVENT
BEGIN:VEVENT
DTSTART;VALUE=DATE:20190424
DTEND;VALUE=DATE:20190502
DTSTAMP:20260421T144905
CREATED:20160123T183127Z
LAST-MODIFIED:20181124T061532Z
UID:37-1556064000-1556755199@bodeutsch.eu
SUMMARY:ANDALUSIEN - Magische Orte und Maurische Pracht-wo sich die Religionen berühren-
DESCRIPTION:  \nLiebe Reisefreunde\, \nich freue mich sehr\, im Frühjahr 2019 wieder mit meinem bewährten Reisepartner „DIE WINDROSE“\, eine weitere Pilgertour im romanischen Sprachraum anbieten zu können. \nWir besuchen Städte\, die wie Sevilla oder Córdoba im Ruf ewiger Schönheit stehen. \nIm Frühling\, der schönsten Jahreszeit in Andalusien\, wollen wir in eine einzigartige Landschaft eintauchen und auch wieder geistlich auf Spurensuche gehen. \nWir begegnen jüdischen und arabischen Mystikern und Philosophen\, die das Andalusien des Mittelalters geprägt haben und entdecken so neue Facetten unserer eigenen christlichen Prägung. \nHöhepunkt unserer Andalusienreise ist der Besuch der Alhambra\, der einzigen komplett erhaltenen islamischen Palastanlage der Welt\, die hoch über Granada thront.  \nIm Herzstück der Alhambra\, dem Nasridenpalast\, tauchen wir ein in den Zauber maurischer Mosaik-Kunst von überwältigender Schönheit. \nGranada ist eine Stadt der Muße\,  \neine Stadt für die Beschaulichkeit und die Phantasie\,  \ndie Stunden sind dort länger und gehaltvoller als anderswo…  \nSo der berühmteste andalusische Dichter Federico García Lorcas. \nDa meine Reisen immer unter dem Motto ´Gesundheits- und Erlebnisreisen´ stehen\, also auch Essen und Bewegung Berücksichtigung finden\, werden wir sowohl seelisch erfüllt\, als auch körperlich regeneriert und gestärkt nach Hause kommen.  \nLiebe Freunde\, mein Partner „DIE WINDROSE“ hat das Detail-Programm mit seiner langjährigen   Erfahrung und hervorragenden persönlichen Kontakten vor Ort wieder touristisch gewürzt. \nUm zeitnah zu buchen\, entnehmt bitte die Kontakt- und Anmeldedaten für diese individuelle\, auf max. 15 Teilnehmer beschränkte Reise\, der beiliegenden ausführlichen Reisebeschreibung. \nBei speziellen Fragen zu Anreise o.ä. wendet euch bitte gerne jederzeit an „DIE WINDROSE“ oder an mich. \nIch freue mich auf ein Wiedersehen bei dieser aussergewöhnlichen Reise. \nEuer  Ralf Bodeutsch
URL:https://bodeutsch.eu/event/fasten-mit-praelat-joachim-angerer-ein-spiritueller-spaziergang/
CATEGORIES:Termine
ATTACH;FMTTYPE=image/png:https://bodeutsch.eu/wp-content/uploads/2016/01/Bildschirmfoto-2018-11-24-um-00.08.46.png
END:VEVENT
BEGIN:VEVENT
DTSTART;VALUE=DATE:20190322
DTEND;VALUE=DATE:20190330
DTSTAMP:20260421T144905
CREATED:20160123T190547Z
LAST-MODIFIED:20181124T061637Z
UID:46-1553212800-1553903999@bodeutsch.eu
SUMMARY:Fasten und Wandern im Erzgebirge-Ruhe finden und dem Alltag entfliehen-
DESCRIPTION:  \nDer Körper entgiftet\, der Kopf wird frei\, die Augen strahlen\, das Hautbild zeigt die tolle Fastenwirkung. Das Fasten für Gesunde nach Buchinger/Lützner lebt vom Wechsel zwischen Bewegung und Entspannung.\nDas Erzgebirge lädt mit seinen vielen\, gut erschlossenen Wegen zum Wandern ein. \nDas Hotel Schwarzbeerschenke im Bergdorf Pobershau an der Silberstraße liegt idyllisch im Herzen des Erzgebirges. Hier beginnt das Wanderparadies des wildromantischen Schwarzwassertals. Zusätzliche Erholung bietet der hoteleigene Wellnessbereich inklusive Schwimmbad. \nEZ 569\,- Euro \nDZ p.P. 513\,- Euro
URL:https://bodeutsch.eu/event/fasten-und-wandern-im-erzgebirge-ruhe-finden-und-dem-alltag-entfliehen/
CATEGORIES:Termine
END:VEVENT
BEGIN:VEVENT
DTSTART;VALUE=DATE:20190301
DTEND;VALUE=DATE:20190309
DTSTAMP:20260421T144905
CREATED:20160123T171741Z
LAST-MODIFIED:20181123T222819Z
UID:32-1551398400-1552089599@bodeutsch.eu
SUMMARY:Arbeitsbegleitendes Fasten
DESCRIPTION:Eine häufig gestellte Frage ist: „Kann ich während einer Fasten-Kur zur Arbeit gehen\, bin ich leistungsfähig genug?“ Fasten und Arbeiten sind bei Beachtung bestimmter Regeln durchaus vereinbar. Prinzipiell ist die Leistungsfähigkeit während einer Fasten-Kur nicht herabgesetzt. Im Gegenteil: Fastende berichten\, dass sie sich besonders energiegeladen fühlen und einen wachen Geist haben. Ideal ist es\, sich in dieser Zeit der stützenden Gemeinschaft einer Gruppe anzuschließen und sich kompetent begleiten zu lassen. Seit über 15 Jahren biete ich gemeinsam mit verschiedenen Volkshochschulen diese besonderen Seminare an. \nInformationsabend: 27.02.2019
URL:https://bodeutsch.eu/event/sddsdsfd/
LOCATION:Volkshochschule\, Hermsdorf
CATEGORIES:Termine
END:VEVENT
END:VCALENDAR